BEGIN:VCALENDAR
VERSION:2.0
PRODID:-//Eventin//Event Calendar//EN
CALSCALE:GREGORIAN
METHOD:PUBLISH
BEGIN:VEVENT
UID:7258b53eec7c9ef4f1348028485e06d4@camdenartshoppes.com
SUMMARY:Mosaic Glass Art Part 2
DESCRIPTION:Mosaic glass artwork created with stained glass and jewelry bit
 s. 1st Class - Choose a pattern.  Then we will cut and glue art to board. 
 2nd Class- we will grout and clean project. All materials included.  Wear 
 old clothes.\n \nPart 1 link
LOCATION:Camden Art Shoppes
DTSTAMP:20260420T021833Z
DTSTART:20260725T140000Z
DTEND:20260725T190000Z
END:VEVENT
END:VCALENDAR
