BEGIN:VCALENDAR
VERSION:2.0
PRODID:-//Eventin//Event Calendar//EN
CALSCALE:GREGORIAN
METHOD:PUBLISH
BEGIN:VEVENT
UID:1b8db05c889f5348a1be7f4c2e1d8240@camdenartshoppes.com
SUMMARY:Mosaic Glass Art Part 1
DESCRIPTION:This is a 2 day class 7/18 and 7/25.\n\nMosaic glass artwork cr
 eated with stained glass and jewelry bits. 1st Class - Choose a pattern.  
 Then we will cut and glue art to board. 2nd Class- we will grout and clean 
 project. All materials included.  Wear old clothes.
LOCATION:Camden Art Shoppes
DTSTAMP:20260420T021540Z
DTSTART:20260718T140000Z
DTEND:20260718T190000Z
END:VEVENT
END:VCALENDAR
